BEGIN:VCALENDAR
VERSION:2.0
PRODID:-//NJ Fibershed - ECPv6.15.20//NONSGML v1.0//EN
CALSCALE:GREGORIAN
METHOD:PUBLISH
X-ORIGINAL-URL:https://njfibershed.com
X-WR-CALDESC:Events for NJ Fibershed
REFRESH-INTERVAL;VALUE=DURATION:PT1H
X-Robots-Tag:noindex
X-PUBLISHED-TTL:PT1H
BEGIN:VTIMEZONE
TZID:America/New_York
BEGIN:DAYLIGHT
TZOFFSETFROM:-0500
TZOFFSETTO:-0400
TZNAME:EDT
DTSTART:20230312T070000
END:DAYLIGHT
BEGIN:STANDARD
TZOFFSETFROM:-0400
TZOFFSETTO:-0500
TZNAME:EST
DTSTART:20231105T060000
END:STANDARD
BEGIN:DAYLIGHT
TZOFFSETFROM:-0500
TZOFFSETTO:-0400
TZNAME:EDT
DTSTART:20240310T070000
END:DAYLIGHT
BEGIN:STANDARD
TZOFFSETFROM:-0400
TZOFFSETTO:-0500
TZNAME:EST
DTSTART:20241103T060000
END:STANDARD
BEGIN:DAYLIGHT
TZOFFSETFROM:-0500
TZOFFSETTO:-0400
TZNAME:EDT
DTSTART:20250309T070000
END:DAYLIGHT
BEGIN:STANDARD
TZOFFSETFROM:-0400
TZOFFSETTO:-0500
TZNAME:EST
DTSTART:20251102T060000
END:STANDARD
END:VTIMEZONE
BEGIN:VEVENT
DTSTART;TZID=America/New_York:20240519T140000
DTEND;TZID=America/New_York:20240519T160000
DTSTAMP:20260422T230718
CREATED:20240127T162031Z
LAST-MODIFIED:20240208T191902Z
UID:30980-1716127200-1716134400@njfibershed.com
SUMMARY:Shed Talks - Growing Dye Plants
DESCRIPTION:May 19\, 2024 – Growing Dye Plants with Laura Chandler – 2:00 pm- 4:00 pm \nAt Smiling Dog Farm (Lumberton\, NJ) and streamed on Zoom \nSignup is needed but attendance is free for NJ Fibershed Members.  Non-members may attend for $15\, the price of a Community Supporter membership (and attend any other programs at the member rate during 2024).  There is no limit on attendees for this Shed Talk.  Details (Zoom link\, location for in person) will be sent roughly 1 week ahead of the talk. Non-members select Non-member status for the 1st talk you’d like to attend\, then select Member for any other talk. \nSignup here. \nShare this:\n				Share on Facebook (Opens in new window)\n				Facebook
URL:https://njfibershed.com/event/30980/
LOCATION:Smiling Dog Farm\, Lumberton\, NJ\, United States
CATEGORIES:NJ Fibershed Events,Shed Talks,workshop
ATTACH;FMTTYPE=image/png:https://njfibershed.com/wp-content/uploads/2024/01/Shed-Talks-Logo.png
ORGANIZER;CN="NJ Fibershed":MAILTO:njfibershed@gmail.com
END:VEVENT
BEGIN:VEVENT
DTSTART;TZID=America/New_York:20240414T140000
DTEND;TZID=America/New_York:20240414T160000
DTSTAMP:20260422T230718
CREATED:20240127T161623Z
LAST-MODIFIED:20240223T212322Z
UID:30978-1713103200-1713110400@njfibershed.com
SUMMARY:Shed Talks - Flax
DESCRIPTION:April 14\, 2024 – Flax with Joan Mruk 2:00 pm – 4:00 pm \nAt Amber Hill Farm in Bloomsbury and streamed on Zoom \nSignup is needed but attendance is free for NJ Fibershed Members.  Non-members may attend for $15\, the price of a Community Supporter membership (and attend any other programs at the member rate during 2024).  There is no limit on attendees for this Shed Talk.  Details (Zoom link\, location for in person) will be sent roughly 1 week ahead of the talk. Non-members select Non-member status for the 1st talk you’d like to attend\, then select Member for any other talk. \nSignup here. \nShare this:\n				Share on Facebook (Opens in new window)\n				Facebook
URL:https://njfibershed.com/event/shed-talks-flax/
LOCATION:NJ
CATEGORIES:seminar,Shed Talks,webinar
ATTACH;FMTTYPE=image/png:https://njfibershed.com/wp-content/uploads/2024/01/Shed-Talks-Logo.png
ORGANIZER;CN="NJ Fibershed":MAILTO:njfibershed@gmail.com
END:VEVENT
BEGIN:VEVENT
DTSTART;TZID=America/New_York:20240303T140000
DTEND;TZID=America/New_York:20240303T160000
DTSTAMP:20260422T230718
CREATED:20240127T161111Z
LAST-MODIFIED:20240127T161111Z
UID:30976-1709474400-1709481600@njfibershed.com
SUMMARY:Shed Talks - Biosecurity
DESCRIPTION:March 3\, 2024 – Biosecurity Measures to Keep Your Animals Healthy & Safe with Dr. Linda Detwiler 2:00 pm – 4:00 pm \nAt Middle Brook Fiberworks (Bedminster\, NJ) and streamed on Zoom \nSignup is needed but attendance is free for NJ Fibershed Members.  Non-members may attend for $15\, the price of a Community Supporter membership (and attend any other programs at the member rate during 2024).  There is no limit on attendees for this Shed Talk.  Details (Zoom link\, location for in person) will be sent roughly 1 week ahead of the talk. Non-members select Non-member status for the 1st talk you’d like to attend\, then select Member for any other talk. \nSignup here. \nShare this:\n				Share on Facebook (Opens in new window)\n				Facebook
URL:https://njfibershed.com/event/shed-talks-biosecurity/
LOCATION:Middle Brook Fiberworks\, 705 Larger Cross Rd\, Bedmdinster\, NJ\, 07921\, United States
CATEGORIES:lecture,meeting,NJ Fibershed Events,Shed Talks,webinar
ATTACH;FMTTYPE=image/png:https://njfibershed.com/wp-content/uploads/2024/01/Shed-Talks-Logo.png
ORGANIZER;CN="NJ Fibershed":MAILTO:njfibershed@gmail.com
END:VEVENT
BEGIN:VEVENT
DTSTART;TZID=America/New_York:20240225T140000
DTEND;TZID=America/New_York:20240225T160000
DTSTAMP:20260422T230718
CREATED:20240127T160138Z
LAST-MODIFIED:20240129T200049Z
UID:30967-1708869600-1708876800@njfibershed.com
SUMMARY:Shed Talks - Foraged Cordage
DESCRIPTION:February 25\, 2024 – Foraged Cordage with Paige Miller 2:00 p.m. to 4:00 pm \nAt Middle Brook Fiberworks (Bedminster\, NJ) and streamed on Zoom \nSignup is needed but attendance is free for NJ Fibershed Members.  Non-members may attend for $15\, the price of a Community Supporter membership (and attend any other programs at the member rate during 2024).  There is no limit on attendees for this Shed Talk.  Details (Zoom link\, location for in person) will be sent roughly 1 week ahead of the talk. Non-members select Non-member status for the 1st talk you’d like to attend\, then select Member for any other talk. \nSignup here. \nShare this:\n				Share on Facebook (Opens in new window)\n				Facebook
URL:https://njfibershed.com/event/shed-talks-foraged-cordage/
LOCATION:Middle Brook Fiberworks\, 705 Larger Cross Rd\, Bedmdinster\, NJ\, 07921\, United States
CATEGORIES:Shed Talks,webinar,workshop
ATTACH;FMTTYPE=image/png:https://njfibershed.com/wp-content/uploads/2024/01/Shed-Talks-Logo.png
ORGANIZER;CN="NJ Fibershed":MAILTO:njfibershed@gmail.com
END:VEVENT
BEGIN:VEVENT
DTSTART;TZID=America/New_York:20240128T140000
DTEND;TZID=America/New_York:20240128T160000
DTSTAMP:20260422T230718
CREATED:20240126T234926Z
LAST-MODIFIED:20240127T161027Z
UID:30959-1706450400-1706457600@njfibershed.com
SUMMARY:Shed Talks - Ready Set Farm
DESCRIPTION:January 28\, 2024 – Ready\, Set\, Farm 2:00 p.m. to 4:00 pm.  This Shed Talk will be a panel discussion by Natalie Burger of (Hidden Pastures)\, Marlene Halstead (Rocky Top Farm) and Sue Posergh (Windswept Acres) via Zoom only . \nSignup is needed but attendance is free for NJ Fibershed Members.  Non-members may attend for $15\, the price of a Community Supporter membership (and attend any other programs at the member rate during 2024).  There is no limit on attendees.  Details (Zoom link\, location for in person) will be sent roughly 1 week ahead of the talk. Non-members select Non-member status for the 1st talk you’d like to attend\, then select Member for any other talk. \nSignup here. \nZoom event only. \nShare this:\n				Share on Facebook (Opens in new window)\n				Facebook
URL:https://njfibershed.com/event/ready-set-farm/
LOCATION:Zoom Meeting
CATEGORIES:Fiber Farming 101,panel discussion,Shed Talks
ATTACH;FMTTYPE=image/png:https://njfibershed.com/wp-content/uploads/2024/01/Shed-Talks-Logo.png
END:VEVENT
END:VCALENDAR