BEGIN:VCALENDAR
VERSION:2.0
PRODID:-//NJ Fibershed - ECPv6.15.20//NONSGML v1.0//EN
CALSCALE:GREGORIAN
METHOD:PUBLISH
X-WR-CALNAME:NJ Fibershed
X-ORIGINAL-URL:https://njfibershed.com
X-WR-CALDESC:Events for NJ Fibershed
REFRESH-INTERVAL;VALUE=DURATION:PT1H
X-Robots-Tag:noindex
X-PUBLISHED-TTL:PT1H
BEGIN:VTIMEZONE
TZID:America/New_York
BEGIN:DAYLIGHT
TZOFFSETFROM:-0500
TZOFFSETTO:-0400
TZNAME:EDT
DTSTART:20200308T070000
END:DAYLIGHT
BEGIN:STANDARD
TZOFFSETFROM:-0400
TZOFFSETTO:-0500
TZNAME:EST
DTSTART:20201101T060000
END:STANDARD
BEGIN:DAYLIGHT
TZOFFSETFROM:-0500
TZOFFSETTO:-0400
TZNAME:EDT
DTSTART:20210314T070000
END:DAYLIGHT
BEGIN:STANDARD
TZOFFSETFROM:-0400
TZOFFSETTO:-0500
TZNAME:EST
DTSTART:20211107T060000
END:STANDARD
BEGIN:DAYLIGHT
TZOFFSETFROM:-0500
TZOFFSETTO:-0400
TZNAME:EDT
DTSTART:20220313T070000
END:DAYLIGHT
BEGIN:STANDARD
TZOFFSETFROM:-0400
TZOFFSETTO:-0500
TZNAME:EST
DTSTART:20221106T060000
END:STANDARD
END:VTIMEZONE
BEGIN:VEVENT
DTSTART;TZID=America/New_York:20211214T140000
DTEND;TZID=America/New_York:20211214T150000
DTSTAMP:20260423T005354
CREATED:20211201T191246Z
LAST-MODIFIED:20211201T191246Z
UID:24852-1639490400-1639494000@njfibershed.com
SUMMARY:Fiber to Fabric Zoom Meeting - Partner Event
DESCRIPTION:Attention Fiber Processors\, Spinners\,Weavers\, Knitters and Fabric Mills!\nAre you currently working in the fashion/textile supply chain? \nIf so\, please join our\nFiber to Fabric Zoom Meeting on December 14th from 2-3PM! \nAll Together Now PA is partnering with Fibershed to map and build a local textile supply chain in Pennsylvania and we’d love for you to be a part of it! Our goal for this meeting is to learn more about the needs of local businesses involved in textile production so we can support\, strengthen and begin to rebuild the PA supply chains\nthat connect producers with consumers. \nWe hope you can join us! \nPlease RSVP to receive the meeting Zoom link from our website. \n \n\n\n\n\n\nShare this:\n				Share on Facebook (Opens in new window)\n				Facebook
URL:https://njfibershed.com/event/fiber-to-fabric-zoom-meeting-partner-event/
LOCATION:Zoom
CATEGORIES:meeting,Partner event
END:VEVENT
BEGIN:VEVENT
DTSTART;TZID=America/New_York:20211028T190000
DTEND;TZID=America/New_York:20211028T200000
DTSTAMP:20260423T005354
CREATED:20211013T001802Z
LAST-MODIFIED:20211013T001802Z
UID:24724-1635447600-1635451200@njfibershed.com
SUMMARY:All Together Now PA Wool Growers Meeting (Partner Event)
DESCRIPTION:Attention wool growers and farmers interested in selling wool!\n\nAre you currently raising sheep for wool or looking to start? \nIf so\, please join our \nWool Growers Meeting \non \nOctober 28th from 7-8 PM \nAll Together Now PA is partnering with Fibershed to build a local textile supply chain in Pennsylvania and we’d love for you to be a part of it! \nOur goal is to learn more about the needs of wool growers so that we can support and strengthen local supply chains that connect producers with consumers. \nWe hope you can join us! \nPlease join us via Zoom. Sign Up HERE. \nAll Together Now PA is a nonprofit organization with a mission to unite rural and urban communities to build resilient\, restorative and just local economies that are self-reliant in basic needs. \nFor more information visit our website alltogethernowpa.com \n\nShare this:\n				Share on Facebook (Opens in new window)\n				Facebook
URL:https://njfibershed.com/event/all-together-now-pa-wool-growers-meeting-partner-event/
LOCATION:Zoom
CATEGORIES:Partner event,webinar
ATTACH;FMTTYPE=image/png:https://njfibershed.com/wp-content/uploads/2021/10/WoolGrowersMtgPA.png
END:VEVENT
BEGIN:VEVENT
DTSTART;TZID=America/New_York:20210711T180000
DTEND;TZID=America/New_York:20210711T213000
DTSTAMP:20260423T005354
CREATED:20210619T160555Z
LAST-MODIFIED:20210619T160555Z
UID:24602-1626026400-1626039000@njfibershed.com
SUMMARY:All Together Now PA Flax Project Fundraiser - Partner Event
DESCRIPTION:Flax Flower Dinner\n\nfrom $75.00\n\n\nA fundraising event for the Pennsylvania Flax Project \nJuly 11\, 2021 (Rain Date\, July 18)\n6:00 pm – 9:30PM\nKneehigh Farm (3500 Coventryville Rd\, Pottstown) \nJoin us next to the flax field at Kneehigh Farm for a meal prepared by the chefs at Cadence Restaurant using food fresh from the surrounding farms. Celebrate and learn more about our Pennsylvania Flax Project and support our work to re-establish a U.S. based flax into linen supply. \nMenu \nThree savory courses with dessert and 1 complimentary glass of wine sponsored by Cellar Beast Winehouse included\, (BYOB if you’d like more). \nWhen cooking a farm-to-table dinner\, our chefs must wait to see what products will be ready to harvest. Specific menu will be available closer to the dinner date. Vegetarian options will be available. \nTickets \nStandard tickets are $125. If you are able\, kindly consider purchasing one of our higher tiered tickets as a way of contributing to Pennsylvania Flax Project’s fundraising. \n$75 (limited tickets available): These tickets are available for those interested in joining our dinner\, but are not able to contribute to our fundraising campaign. These tickets are made possible through the support of everyone in our community. \nTier 1: $125 includes dinner for one and a $35.00 contribution to the PA Flax Project. \nTier 2: $150 includes dinner for one and a $60.00 contribution to the PA Flax Project. \nTier 3: $250 includes dinner for one plus a $150.00 contribution to the PA Flax Project\, a thank you gift of a handmade market bag from kitchen garden textiles and home grown food from Kneehigh farm (a $150 retail value). \nTier 4: $500 includes dinner for one plus a $170.00 contribution to the PA Flax Project\, a thank you gift of a handmade quilted tablecloth/picnic blanket from kitchen garden textiles and homegrown food from Kneehigh farm (a $300 retail value). \nKindly RSVP by June 30\, 2021\n\nShare this:\n				Share on Facebook (Opens in new window)\n				Facebook
URL:https://njfibershed.com/event/all-together-now-fundraiser-for-pa-flax-project/
LOCATION:Kneehigh Farm\, 3500 Coventryville Rd\, Pottstown\, PA\, 19465\, United States
CATEGORIES:dinner,event,fundraising event,Partner event
ATTACH;FMTTYPE=image/png:https://njfibershed.com/wp-content/uploads/2021/06/ATN-Flax-Dinner.png
END:VEVENT
END:VCALENDAR