BEGIN:VCALENDAR
VERSION:2.0
PRODID:-//NJ Fibershed - ECPv6.15.20//NONSGML v1.0//EN
CALSCALE:GREGORIAN
METHOD:PUBLISH
X-ORIGINAL-URL:https://njfibershed.com
X-WR-CALDESC:Events for NJ Fibershed
REFRESH-INTERVAL;VALUE=DURATION:PT1H
X-Robots-Tag:noindex
X-PUBLISHED-TTL:PT1H
BEGIN:VTIMEZONE
TZID:America/New_York
BEGIN:DAYLIGHT
TZOFFSETFROM:-0500
TZOFFSETTO:-0400
TZNAME:EDT
DTSTART:20210314T070000
END:DAYLIGHT
BEGIN:STANDARD
TZOFFSETFROM:-0400
TZOFFSETTO:-0500
TZNAME:EST
DTSTART:20211107T060000
END:STANDARD
BEGIN:DAYLIGHT
TZOFFSETFROM:-0500
TZOFFSETTO:-0400
TZNAME:EDT
DTSTART:20220313T070000
END:DAYLIGHT
BEGIN:STANDARD
TZOFFSETFROM:-0400
TZOFFSETTO:-0500
TZNAME:EST
DTSTART:20221106T060000
END:STANDARD
BEGIN:DAYLIGHT
TZOFFSETFROM:-0500
TZOFFSETTO:-0400
TZNAME:EDT
DTSTART:20230312T070000
END:DAYLIGHT
BEGIN:STANDARD
TZOFFSETFROM:-0400
TZOFFSETTO:-0500
TZNAME:EST
DTSTART:20231105T060000
END:STANDARD
END:VTIMEZONE
BEGIN:VEVENT
DTSTART;TZID=America/New_York:20221217T100000
DTEND;TZID=America/New_York:20221217T160000
DTSTAMP:20260423T021354
CREATED:20221213T190951Z
LAST-MODIFIED:20221213T191129Z
UID:26286-1671271200-1671292800@njfibershed.com
SUMMARY:Duck Flats Farm Christmas -Chanukah Open House - Producer Member Event
DESCRIPTION:Friday\, December 16\, 2022 and Saturday\, December 17\, 2022 \nTime:  10:00 am to 4:00 pm \nYarn * Roving * Needle Arts Supplies \nUnique Hand-Made Gifts \nGift Certificates \n\nCranberry-Apple Chutney\nPhotos by Professional Photographer\, Samantha Monaco \nRaw Honey from Windy Hill Farm\, Cherryville\, NJ\n\n“free yarn give-a-away for all customers”  \nCome see our new Lower Fiber Studio\, specializing in weaving yarns \n\nCome see our “Fiber Wall” of many colors in the Lower Fiber Studio\nLovely sport and bulky weight yarns in many colors\nAs always\, our own Finn and Finn-cross yarns and roving\n\n \nFor information/directions: \nWebsite:  duckflatsfarmnj.com \nOr \nduckflats@earthlink.net \nOr \nCall or Text  908.303.5893 \n  \nPlease see the attached flyer for the information for our Christmas/Chanukah Open House this December 16th and 17th. We have quite a nice selection of new yarn and roving arrivals from our wonderful sheep\, goats and alpaca. \nWe are also welcoming our two new alpacas\, Dexter and Marvin\, on December 10th. Come by our farm during the Open House to say ‘Hello” to the new members of our farm family. Hope to see you! \nKind regards\, \nLuana Pesco Koplowitz \nDUCK FLATS Farm Christmas Open House Dec 2022 \nShare this:\n				Share on Facebook (Opens in new window)\n				Facebook
URL:https://njfibershed.com/event/duck-flats-farm-christmas-chanukah-open-house-producer-member-event/
LOCATION:DUCK FLATS FARM\, 144 Old Clinton Road\, Flemington\, NJ\, United States
CATEGORIES:open house
ORGANIZER;CN="Duck Flats Farm":MAILTO:duckflats@earthlink.net
END:VEVENT
END:VCALENDAR