BEGIN:VCALENDAR
VERSION:2.0
PRODID:-//NJ Fibershed - ECPv6.15.20//NONSGML v1.0//EN
CALSCALE:GREGORIAN
METHOD:PUBLISH
X-ORIGINAL-URL:https://njfibershed.com
X-WR-CALDESC:Events for NJ Fibershed
REFRESH-INTERVAL;VALUE=DURATION:PT1H
X-Robots-Tag:noindex
X-PUBLISHED-TTL:PT1H
BEGIN:VTIMEZONE
TZID:America/New_York
BEGIN:DAYLIGHT
TZOFFSETFROM:-0500
TZOFFSETTO:-0400
TZNAME:EDT
DTSTART:20210314T070000
END:DAYLIGHT
BEGIN:STANDARD
TZOFFSETFROM:-0400
TZOFFSETTO:-0500
TZNAME:EST
DTSTART:20211107T060000
END:STANDARD
BEGIN:DAYLIGHT
TZOFFSETFROM:-0500
TZOFFSETTO:-0400
TZNAME:EDT
DTSTART:20220313T070000
END:DAYLIGHT
BEGIN:STANDARD
TZOFFSETFROM:-0400
TZOFFSETTO:-0500
TZNAME:EST
DTSTART:20221106T060000
END:STANDARD
BEGIN:DAYLIGHT
TZOFFSETFROM:-0500
TZOFFSETTO:-0400
TZNAME:EDT
DTSTART:20230312T070000
END:DAYLIGHT
BEGIN:STANDARD
TZOFFSETFROM:-0400
TZOFFSETTO:-0500
TZNAME:EST
DTSTART:20231105T060000
END:STANDARD
END:VTIMEZONE
BEGIN:VEVENT
DTSTART;TZID=America/New_York:20220423T110000
DTEND;TZID=America/New_York:20220423T200000
DTSTAMP:20260423T003653
CREATED:20220403T144156Z
LAST-MODIFIED:20220403T144156Z
UID:25311-1650711600-1650744000@njfibershed.com
SUMMARY:Celebration of Fibers - Guild Member Event
DESCRIPTION:PHILADELPHIA GUILD OF HANDWEAVERS CELEBRATION OF FIBERS  APRIL 22\, 2022\, Opening Reception 6-8 pm \nFollowing PGHW’s philosophy: \n“We learn by doing and grow by sharing\,” this annual juried exhibition of our members work\, serves as a showcase for both our experienced and emerging fiber artists. Our annual celebration also  serves as an educational experience for our growing membership and the general public.   Exceptional craftsmanship among participants and constructive criticism from jurors encourages both the integrity of craft and craftsperson. This show aims to encourage everyone to continue creating. \n3705 Main Street\,\nPhiladelphia\, PA 19127\nwww.pghw.org \nCelebration Hours:\nApril 23\, 2022 11-8 pm\nApril 24\, 2022 11-8 pm\nApril 29\, 2022 11-8 pm\nApril 30. 2022 11-8 pm\nMay 1\, 2022 10-2 pm \nShare this:\n				Share on Facebook (Opens in new window)\n				Facebook
URL:https://njfibershed.com/event/celebration-of-fibers-guild-member-event/
LOCATION:PHILADELPHIA GUILD OF HANDWEAVERS (PGHW)\, 3705 Main Street\, Philadelphia\, PA\, 19127\, United States
CATEGORIES:fiber event,NJ Fibershed Guild Member Event
ATTACH;FMTTYPE=image/jpeg:https://njfibershed.com/wp-content/uploads/2022/04/PGHW-COF-2022-H-Lyles.jpg
ORGANIZER;CN="PHILADELPHIA GUILD OF HANDWEAVERS (PGHW)":MAILTO:info@pghw.org
END:VEVENT
END:VCALENDAR