BEGIN:VCALENDAR
VERSION:2.0
PRODID:-//NJ Fibershed - ECPv6.15.20//NONSGML v1.0//EN
CALSCALE:GREGORIAN
METHOD:PUBLISH
X-ORIGINAL-URL:https://njfibershed.com
X-WR-CALDESC:Events for NJ Fibershed
REFRESH-INTERVAL;VALUE=DURATION:PT1H
X-Robots-Tag:noindex
X-PUBLISHED-TTL:PT1H
BEGIN:VTIMEZONE
TZID:America/New_York
BEGIN:DAYLIGHT
TZOFFSETFROM:-0500
TZOFFSETTO:-0400
TZNAME:EDT
DTSTART:20240310T070000
END:DAYLIGHT
BEGIN:STANDARD
TZOFFSETFROM:-0400
TZOFFSETTO:-0500
TZNAME:EST
DTSTART:20241103T060000
END:STANDARD
BEGIN:DAYLIGHT
TZOFFSETFROM:-0500
TZOFFSETTO:-0400
TZNAME:EDT
DTSTART:20250309T070000
END:DAYLIGHT
BEGIN:STANDARD
TZOFFSETFROM:-0400
TZOFFSETTO:-0500
TZNAME:EST
DTSTART:20251102T060000
END:STANDARD
BEGIN:DAYLIGHT
TZOFFSETFROM:-0500
TZOFFSETTO:-0400
TZNAME:EDT
DTSTART:20260308T070000
END:DAYLIGHT
BEGIN:STANDARD
TZOFFSETFROM:-0400
TZOFFSETTO:-0500
TZNAME:EST
DTSTART:20261101T060000
END:STANDARD
END:VTIMEZONE
BEGIN:VEVENT
DTSTART;TZID=America/New_York:20250412T130000
DTEND;TZID=America/New_York:20250412T140000
DTSTAMP:20260423T003233
CREATED:20250129T212400Z
LAST-MODIFIED:20250129T212451Z
UID:34311-1744462800-1744466400@njfibershed.com
SUMMARY:NJ Fibershed Harvest Initiative Orientation
DESCRIPTION:Harvest Initiative Orientation Meeting at the Alexandria garden. \nShare this:\n				Share on Facebook (Opens in new window)\n				Facebook
URL:https://njfibershed.com/event/nj-fibershed-harvest-initiative-orientation-2/
CATEGORIES:fiber gardening
ATTACH;FMTTYPE=image/png:https://njfibershed.com/wp-content/uploads/2025/01/harvest-initiative-logo.png
END:VEVENT
BEGIN:VEVENT
DTSTART;TZID=America/New_York:20250411T170000
DTEND;TZID=America/New_York:20250411T180000
DTSTAMP:20260423T003233
CREATED:20250129T211952Z
LAST-MODIFIED:20250402T233848Z
UID:34283-1744390800-1744394400@njfibershed.com
SUMMARY:NJ Fibershed Harvest Initiative Orientation
DESCRIPTION:Harvest Initiative Orientation Meeting at TCNJ \nFind out more about the NJ Fibershed Harvest Initiative \nShare this:\n				Share on Facebook (Opens in new window)\n				Facebook
URL:https://njfibershed.com/event/nj-fibershed-harvest-initiative-orientation/
LOCATION:The College of New Jersey\, 200 Pennington Road\, Ewing Township\, NJ\, 08618\, United States
CATEGORIES:fiber gardening
ATTACH;FMTTYPE=image/png:https://njfibershed.com/wp-content/uploads/2025/01/harvest-initiative-logo.png
END:VEVENT
END:VCALENDAR