BEGIN:VCALENDAR
VERSION:2.0
PRODID:-//NJ Fibershed - ECPv6.15.20//NONSGML v1.0//EN
CALSCALE:GREGORIAN
METHOD:PUBLISH
X-WR-CALNAME:NJ Fibershed
X-ORIGINAL-URL:https://njfibershed.com
X-WR-CALDESC:Events for NJ Fibershed
REFRESH-INTERVAL;VALUE=DURATION:PT1H
X-Robots-Tag:noindex
X-PUBLISHED-TTL:PT1H
BEGIN:VTIMEZONE
TZID:America/New_York
BEGIN:DAYLIGHT
TZOFFSETFROM:-0500
TZOFFSETTO:-0400
TZNAME:EDT
DTSTART:20190310T070000
END:DAYLIGHT
BEGIN:STANDARD
TZOFFSETFROM:-0400
TZOFFSETTO:-0500
TZNAME:EST
DTSTART:20191103T060000
END:STANDARD
BEGIN:DAYLIGHT
TZOFFSETFROM:-0500
TZOFFSETTO:-0400
TZNAME:EDT
DTSTART:20200308T070000
END:DAYLIGHT
BEGIN:STANDARD
TZOFFSETFROM:-0400
TZOFFSETTO:-0500
TZNAME:EST
DTSTART:20201101T060000
END:STANDARD
BEGIN:DAYLIGHT
TZOFFSETFROM:-0500
TZOFFSETTO:-0400
TZNAME:EDT
DTSTART:20210314T070000
END:DAYLIGHT
BEGIN:STANDARD
TZOFFSETFROM:-0400
TZOFFSETTO:-0500
TZNAME:EST
DTSTART:20211107T060000
END:STANDARD
BEGIN:DAYLIGHT
TZOFFSETFROM:-0500
TZOFFSETTO:-0400
TZNAME:EDT
DTSTART:20220313T070000
END:DAYLIGHT
BEGIN:STANDARD
TZOFFSETFROM:-0400
TZOFFSETTO:-0500
TZNAME:EST
DTSTART:20221106T060000
END:STANDARD
BEGIN:DAYLIGHT
TZOFFSETFROM:-0500
TZOFFSETTO:-0400
TZNAME:EDT
DTSTART:20230312T070000
END:DAYLIGHT
BEGIN:STANDARD
TZOFFSETFROM:-0400
TZOFFSETTO:-0500
TZNAME:EST
DTSTART:20231105T060000
END:STANDARD
BEGIN:DAYLIGHT
TZOFFSETFROM:-0500
TZOFFSETTO:-0400
TZNAME:EDT
DTSTART:20240310T070000
END:DAYLIGHT
BEGIN:STANDARD
TZOFFSETFROM:-0400
TZOFFSETTO:-0500
TZNAME:EST
DTSTART:20241103T060000
END:STANDARD
BEGIN:DAYLIGHT
TZOFFSETFROM:-0500
TZOFFSETTO:-0400
TZNAME:EDT
DTSTART:20250309T070000
END:DAYLIGHT
BEGIN:STANDARD
TZOFFSETFROM:-0400
TZOFFSETTO:-0500
TZNAME:EST
DTSTART:20251102T060000
END:STANDARD
END:VTIMEZONE
BEGIN:VEVENT
DTSTART;TZID=America/New_York:20241027T100000
DTEND;TZID=America/New_York:20241027T160000
DTSTAMP:20260422T194927
CREATED:20240623T154747Z
LAST-MODIFIED:20241108T002604Z
UID:32442-1730023200-1730044800@njfibershed.com
SUMMARY:NJ Fibershed Fleece & Yarn Sale
DESCRIPTION:It’s time for our local-focused Fleece & Yarn Sale! \n \nNew for this year\, we are excited to partner with the Hunterdon Art Museum to host the Fleece & Yarn Sale at the museum’s outdoor terrace. The museum is located on one of the most scenic sites in New Jersey\, overlooking the South Branch of the Raritan River. The terrace offers views of the Art Museum’s historic stone mill and the Red Mill Museum Village\, and is a popular spot where tourists and residents gather. \nThe Fleece & Yarn Sale is free and open to the public\, featuring fleece\, yarn\, spinning fiber\, honey\, and other farm products\, all from local producers and artisans. The event will offer live fiber arts demonstrations from local fiber artists throughout the day. Check out our 2024 Fleece & Yarn Vendors: \nAndrea Peart\nCreative Sheepskins\nDancing Waters Farm\nForest Bluff Farm\nHardscrabble Farm\nHidden Valley Farm\nHomebody Farm\nHundred Fruit Farm\nkeira wiggins\nLavenderGreen of Indian Mills\nMountain Pride Farm\nPine Hill Cashmere\nPleasant Valley Mills Farm\nSmiling Dog Farm\nSolstice Farm\nThree Birches Homestead\nVery Bjorn Handcrafted\nWalnut Hill Farm\nWillow Pond Farm\nWindswept Sheep \nLearn a new fiber art\, take a mini-workshop at the Hunterdon Art Museum! \nMaking Cordage with Daffodil Leaves\, with Paige Miller \nTake It for a Spin: Creating Yarn on a Drop Spindle\, with Elisa Eiger \nShibori Workshop\, with Sue Fox Mitrano \nVendor applications are closed for the 2024 Fleece & Yarn Sale. Guidelines for vendors can be found here. \nWe’re looking for volunteers to help vendors and visitors have a great experience. Contact us at hello@njfibershed.com if you can help!\n \nShare this:\n				Share on Facebook (Opens in new window)\n				Facebook
URL:https://njfibershed.com/event/nj-fibershed-fleece-yarn-sale/
LOCATION:Hunterdon Art Museum\, 7 Lower Center Street\, Clinton\, NJ\, 08809\, United States
CATEGORIES:event,farmer's market,festival,fiber art sales,fiber event,NJ Fibershed Events,workshop
ATTACH;FMTTYPE=image/jpeg:https://njfibershed.com/wp-content/uploads/2024/06/Fleece-Sale-2023-07733.jpg
ORGANIZER;CN="NJ Fibershed":MAILTO:njfibershed@gmail.com
END:VEVENT
BEGIN:VEVENT
DTSTART;TZID=America/New_York:20231029T110000
DTEND;TZID=America/New_York:20231029T160000
DTSTAMP:20260422T194927
CREATED:20230323T200554Z
LAST-MODIFIED:20231028T164327Z
UID:27783-1698577200-1698595200@njfibershed.com
SUMMARY:NJ Fibershed Fall Fleece and Yarn Sale 2023
DESCRIPTION:Sunday\, October 29\, 2023 11 a.m.– 4 p.m. (Rain date: November 5)\n\nWe’ve decided to keep the original date as the forecast has been improving up until decision time (noon Sat. Oct. 28th). \nNeed a fiber fix? Longing to see sheep? You’re in luck because we’re holding a Fleece & Yarn Sale on Sunday\, October 29\, 2023\, from 11 a.m. – 4 p.m. \nThe Sale will feature fleece\, yarn\, spinning fiber\, honey\, and other farm products from local fiber producers and artisans. \nAre you a spinner? Pack your wheels and spindles and join us for a Spin-In\, hosted by the South Jersey Guild of Spinners & Handweavers! \nNJ Fibershed blankets will be available for purchase.  Back by popular demand\,Windswept Acres Farm will provide a Sheep Selfie station again. \nThis is an outdoor event\, with field parking and shopping. \nLocation: Windswept Acres Sheep Farm\, 173 Whitebridge Rd\, Pittstown\, NJ 08867\nWe are helping organize carpools. If you’re interested\, fill out this form. \nCOVID-19 Safety Precautions: \nTo ensure the safety of all attendees this will be an exclusively outdoor event. Masks welcome!\nThere are no public restroom facilities\, but there will be a hand washing station. \n2023 Vendor List:\nClaudine Celebuski \nDancing Waters Farm (NJ Blankets) \nForest Bluff Farm \nG.P.K. Woodworking and Restorations \nHidden Valley Farm \nLavender Green of Indian Mills \n \nMiddle Brook Fiberworks (NJ Blankets) \nMommy and Me Farm \nRocky Top Farm \n \nSmiling Dog Farm (NJ Blankets) \nSolstice Farm \nSweet Caroline’s Bakeshop \nThree Bunny Designs \nWillow Pond Farm \nWindswept Acres Farm (NJ Blankets) \nTalks\, Demons and More!\n11:00                    Registration for our 1st Fiber Along Breed Study – Romney Opens (at the Info Booth) \n11:30 – 12:30      Fiber Along Show and Tell \n2:30 – 3:30        Flax – Growing\, Processing and Spinning by Joan Mruk\, also demonstrating all day \nAll day demos: \nFrances Irwin Handweavers Guild – Weaving\n \nJoan Mruk – Flax  Spinning \nSouth Jersey Guild of Spinners & Handweavers – Spinning\, Weaving \nNJ Blankets still available\, get yours before they’re sold out! \n \n \n  \n  \n  \n  \n  \n \nShare this:\n				Share on Facebook (Opens in new window)\n				Facebook
URL:https://njfibershed.com/event/nj-fibershed-fall-fleece-and-yarn-sale-2023/
LOCATION:Windswept Acres Sheep Farm\, 173 Whitebridge Road\, Pittstown\, NJ\, 08867
CATEGORIES:farmer's market,fiber art sales,fiber event,fibershed affiliate event,NJ Fibershed Events
ATTACH;FMTTYPE=image/png:https://njfibershed.com/wp-content/uploads/2023/03/fy-sale-banner-for-website-1.png
ORGANIZER;CN="NJ Fibershed":MAILTO:njfibershed@gmail.com
END:VEVENT
BEGIN:VEVENT
DTSTART;TZID=America/New_York:20221023T110000
DTEND;TZID=America/New_York:20221023T160000
DTSTAMP:20260422T194927
CREATED:20210909T003633Z
LAST-MODIFIED:20230323T192107Z
UID:24666-1666522800-1666540800@njfibershed.com
SUMMARY:NJ Fibershed Fall Fleece and Yarn Sale 2022
DESCRIPTION:Sunday\, Oct 23\, 2022 11 a.m.– 4 p.m. (Rain date Oct. 30th.)\n\nNeed a fiber fix? Longing to see sheep? You’re in luck because we’re holding a Fleece & Yarn Sale on Sunday\, Oct. 23\, 2022\, from 11 a.m. – 4 p.m (Rain date Oct. 30th). \nThe Sale will feature fleece\, yarn\, spinning fiber\, honey\, and other farm products from local fiber producers and artisans. \nAre you a spinner? Pack your wheels and spindles and join us for a Spin-In\, hosted by the North Country Spinners and the South Jersey Guild of Spinners & Handweavers! \nNJ Fibershed blankets will be available for purchase.  Back by popular demand\,Windswept Acres Farm will provide a Sheep Selfie station again.  There will also be a drawing for a NJ Fibershed tote with roving at 3PM. \nThis is an outdoor event\, with field parking and shopping. \nLocation: Windswept Acres Sheep Farm\, 173 Whitebridge Rd\, Pittstown\, NJ 08867 \nCOVID-19 Safety Precautions: \nTo ensure the safety of all attendees this will be an exclusively outdoor event. Masks welcome!\nThere are no public restroom facilities\, but there will be a hand washing station. \nVendor List: \nClaudine Celebuski \nDancing Waters Farm (NJ Blankets) \nForest Bluff Farm (NJ Blankets) \nG.P.K. Woodworking and Restorations \nHard Scrabble Farm \nLavender Green of Indian Mills \nMiddle Brook Fiberworks (NJ Blankets) \nPine Hill Farm \nRocky Top Farm \nSmiling Dog Farm (NJ Blankets) \nSweet Caroline’s Bakeshop \nWindswept Acres Farm (NJ Blankets) \n \n \n  \n  \n  \n  \n  \n  \n  \nLocal fiber producer/ artisans wanting to participate – see Call for Vendors. \nShare this:\n				Share on Facebook (Opens in new window)\n				Facebook
URL:https://njfibershed.com/event/nj-fibershed-fall-fleece-and-yarn-sale-2022/
LOCATION:Windswept Acres Sheep Farm\, 173 Whitebridge Road\, Pittstown\, NJ\, 08867
CATEGORIES:farmer's market,fiber event,fibershed affiliate event
ORGANIZER;CN="NJ Fibershed":MAILTO:njfibershed@gmail.com
END:VEVENT
BEGIN:VEVENT
DTSTART;TZID=America/New_York:20220423T110000
DTEND;TZID=America/New_York:20220423T200000
DTSTAMP:20260422T194927
CREATED:20220403T144156Z
LAST-MODIFIED:20220403T144156Z
UID:25311-1650711600-1650744000@njfibershed.com
SUMMARY:Celebration of Fibers - Guild Member Event
DESCRIPTION:PHILADELPHIA GUILD OF HANDWEAVERS CELEBRATION OF FIBERS  APRIL 22\, 2022\, Opening Reception 6-8 pm \nFollowing PGHW’s philosophy: \n“We learn by doing and grow by sharing\,” this annual juried exhibition of our members work\, serves as a showcase for both our experienced and emerging fiber artists. Our annual celebration also  serves as an educational experience for our growing membership and the general public.   Exceptional craftsmanship among participants and constructive criticism from jurors encourages both the integrity of craft and craftsperson. This show aims to encourage everyone to continue creating. \n3705 Main Street\,\nPhiladelphia\, PA 19127\nwww.pghw.org \nCelebration Hours:\nApril 23\, 2022 11-8 pm\nApril 24\, 2022 11-8 pm\nApril 29\, 2022 11-8 pm\nApril 30. 2022 11-8 pm\nMay 1\, 2022 10-2 pm \nShare this:\n				Share on Facebook (Opens in new window)\n				Facebook
URL:https://njfibershed.com/event/celebration-of-fibers-guild-member-event/
LOCATION:PHILADELPHIA GUILD OF HANDWEAVERS (PGHW)\, 3705 Main Street\, Philadelphia\, PA\, 19127\, United States
CATEGORIES:fiber event,NJ Fibershed Guild Member Event
ATTACH;FMTTYPE=image/jpeg:https://njfibershed.com/wp-content/uploads/2022/04/PGHW-COF-2022-H-Lyles.jpg
ORGANIZER;CN="PHILADELPHIA GUILD OF HANDWEAVERS (PGHW)":MAILTO:info@pghw.org
END:VEVENT
BEGIN:VEVENT
DTSTART;TZID=America/New_York:20200530T100000
DTEND;TZID=America/New_York:20200530T170000
DTSTAMP:20260422T194927
CREATED:20200128T143937Z
LAST-MODIFIED:20200530T134614Z
UID:22818-1590832800-1590858000@njfibershed.com
SUMMARY:Spring NJ Fibershed Marketplace - POSTPONED
DESCRIPTION:We regret to announce that we will be postponing our May 29 spinning workshop\, Fleeces From Our Fibershed with Deborah Robson\, as well as our May 30 Fiber Farm Market. All registration fees will be refunded. \nThis decision\, as difficult and disappointing as it is for everyone\, was unavoidable in light of the unprecedented challenges we face due to the pandemic. We will continue to monitor the situation and to abide by state mandates. We hope to be able to set a new date for our workshop and Fiber Farm Market soon. \n******************************************************************************************************************************************************************************************************** \nOur Spring Fiber Farm Market will be held May 30th from 10-5PM in the great room of the HWNC building at the Willow School\, 1150 Pottersville Rd\, Gladstone\, NJ 07934.  It will feature local vendors selling yarn\, fleece\, finished goods such as blankets\, hats\, and socks–all from their flocks–and other farm goods.  Other vendors will provide natural dye plants and seeds\, as well as handcrafted goods sourced from local materials.  This is your chance to connect with local farmers and artisans. \nAt the Market on Saturday\, Deborah Robson\, author of The Fleece & Fiber Sourcebook will give a free presentation entitled\, “The Magic of Wool.” Other Market day events include a fleece skirting demonstration\, and spinning and knitting circles.  All events are open to the public. \nDeborah Robson will be joining us for our kickoff weekend–on Friday\, May 29\, she’ll be teaching a handspinning workshop at Middle Brook Fiberworks\, also in Bedminster. The full-day class will focus on working with breed-specific wool from sheep breeds raised in New Jersey. \nVending information: \nWe’re providing two options:  vending spaces and consignment applications are both available. \nIn keeping with our goal of promoting local fiber producers and artisans\, priority will be given to NJ fiber farmers and artisans\, while PA\, NY\, CT\, DE\, and MD producers and artisans are also encouraged to apply.  Fiber products must be a minimum of 50% locally sourced. \nVending spaces will be 10×10 and the fees are $60 for members and $75 for non-members.\nApplications open: February 2\, 2020\nApplication Deadline: March 28\, 2020\nVendors notified of acceptance: April 4\, 2020\nFull payment due:  April 11\, 2020 \nWe will also be providing consigment services for 20% of sales.  Consignment vendors may volunteer at the consignment area for a 2 hour time slot to reduce their consigment fee to 10%. \nApplication Open: Feb. 2\, 2020\nApplication Deadline: April 30\, 2020\nNotification Date:  May 1\, 2020 \n  \nShare this:\n				Share on Facebook (Opens in new window)\n				Facebook
URL:https://njfibershed.com/event/spring-nj-fibershed-marketplace/
LOCATION:Willow School\, 1150 Pottersville Rd\, gladstone\, NJ\, 07934
CATEGORIES:farmer's market,fiber art sales,fiber event,fibershed affiliate event,seminar
ATTACH;FMTTYPE=image/jpeg:https://njfibershed.com/wp-content/uploads/2020/01/May-2020-Marketpkace-Logo.jpg
ORGANIZER;CN="NJ Fibershed":MAILTO:njfibershed@gmail.com
END:VEVENT
BEGIN:VEVENT
DTSTART;TZID=America/New_York:20200529T093000
DTEND;TZID=America/New_York:20200529T163000
DTSTAMP:20260422T194927
CREATED:20200130T202559Z
LAST-MODIFIED:20200530T134643Z
UID:22841-1590744600-1590769800@njfibershed.com
SUMMARY:Fleeces from Our Fibershed with Deborah Robson - POSTPONED
DESCRIPTION: – POSTPONEDWe regret to announce that we will be postponing our May 29 spinning workshop\, Fleeces From Our Fibershed with Deborah Robson\, as well as our May 30 Fiber Farm Market. All registration fees will be refunded. \nThis decision\, as difficult and disappointing as it is for everyone\, was unavoidable in light of the unprecedented challenges we face due to the pandemic. We will continue to monitor the situation and to abide by state mandates. We hope to be able to set a new date for our workshop and Fiber Farm Market soon. \n******************************************************************************************************************************************************************************************************** \nRegistrations for Members (Producer – Artisan – Community Supporter) will open at 10 a.m. EST Monday\, February 3. Any remaining spots will be made available to the public on February 17. The cost of the full-day workshop is $125 for Members/$145 for non-Members\, with $10 material cost for all.\nJoin us for a very special spinning workshop with Deborah Robson\, author of  The Fleece & Fiber Sourcebook\, as she guides us through a breed study of some of the flocks found in our NJ Fibershed. \nLet’s explore the wool being grown by sheep in the New Jersey Fibershed. With a half-dozen or so clean fleeces from nearby\, we’ll discuss\, try different preparations\, and spin. While excellent wool is grown here\, and we’ll certainly experience some\, other samples might be wools that would frequently be overlooked but that warrant our attention. Breed-specific and crossbred wools all welcome. The workshop will be held at the teaching studio of Middle Brook Fiberworks\, in Bedminster\, NJ. \nRegistration for members beginning Feb. 3rd\, then remaining spots will be open to the public on Feb. 17\, 2020.  Additional details available on the REGISTRATION PAGE.  Should the  Workshop be cancelled\, the registration fee will be fully refundable.   \nShare this:\n				Share on Facebook (Opens in new window)\n				Facebook
URL:https://njfibershed.com/event/fleeces-from-our-fibershed-with-deborah-robson/
LOCATION:Middle Brook Fiberworks\, 705 Larger Cross Rd\, Bedmdinster\, NJ\, 07921\, United States
CATEGORIES:fiber event,fibershed affiliate event,workshop
ATTACH;FMTTYPE=image/jpeg:https://njfibershed.com/wp-content/uploads/2020/01/Robson-by-Schueler_6302-web.jpeg
ORGANIZER;CN="NJ Fibershed":MAILTO:njfibershed@gmail.com
END:VEVENT
END:VCALENDAR