BEGIN:VCALENDAR
VERSION:2.0
PRODID:-//NJ Fibershed - ECPv6.15.20//NONSGML v1.0//EN
CALSCALE:GREGORIAN
METHOD:PUBLISH
X-ORIGINAL-URL:https://njfibershed.com
X-WR-CALDESC:Events for NJ Fibershed
REFRESH-INTERVAL;VALUE=DURATION:PT1H
X-Robots-Tag:noindex
X-PUBLISHED-TTL:PT1H
BEGIN:VTIMEZONE
TZID:America/New_York
BEGIN:DAYLIGHT
TZOFFSETFROM:-0500
TZOFFSETTO:-0400
TZNAME:EDT
DTSTART:20200308T070000
END:DAYLIGHT
BEGIN:STANDARD
TZOFFSETFROM:-0400
TZOFFSETTO:-0500
TZNAME:EST
DTSTART:20201101T060000
END:STANDARD
BEGIN:DAYLIGHT
TZOFFSETFROM:-0500
TZOFFSETTO:-0400
TZNAME:EDT
DTSTART:20210314T070000
END:DAYLIGHT
BEGIN:STANDARD
TZOFFSETFROM:-0400
TZOFFSETTO:-0500
TZNAME:EST
DTSTART:20211107T060000
END:STANDARD
BEGIN:DAYLIGHT
TZOFFSETFROM:-0500
TZOFFSETTO:-0400
TZNAME:EDT
DTSTART:20220313T070000
END:DAYLIGHT
BEGIN:STANDARD
TZOFFSETFROM:-0400
TZOFFSETTO:-0500
TZNAME:EST
DTSTART:20221106T060000
END:STANDARD
BEGIN:DAYLIGHT
TZOFFSETFROM:-0500
TZOFFSETTO:-0400
TZNAME:EDT
DTSTART:20230312T070000
END:DAYLIGHT
BEGIN:STANDARD
TZOFFSETFROM:-0400
TZOFFSETTO:-0500
TZNAME:EST
DTSTART:20231105T060000
END:STANDARD
BEGIN:DAYLIGHT
TZOFFSETFROM:-0500
TZOFFSETTO:-0400
TZNAME:EDT
DTSTART:20240310T070000
END:DAYLIGHT
BEGIN:STANDARD
TZOFFSETFROM:-0400
TZOFFSETTO:-0500
TZNAME:EST
DTSTART:20241103T060000
END:STANDARD
END:VTIMEZONE
BEGIN:VEVENT
DTSTART;TZID=America/New_York:20231216T100000
DTEND;TZID=America/New_York:20231216T160000
DTSTAMP:20260422T231152
CREATED:20231204T022029Z
LAST-MODIFIED:20231204T022454Z
UID:30470-1702720800-1702742400@njfibershed.com
SUMMARY:Member Open House - Duck Flats Farm Christmas Open House Dec 16 2023
DESCRIPTION:  \nChristmas/Chanukah Open House \nDUCK FLATS FARM\n144 Old Clinton Road\nFlemington\, NJ  08822 \nFriday\, December 15\, 2023\nSaturday\, December 16\, 2023 \nTime:  10:00 am to 4:00 pm \nYarn * Roving * Needle Arts Supplies \nUnique Hand-Made Gifts \nGift Certificates  \n\nCranberry-Apple Chutney\nPhotos by Professional Photographer\, Samantha Monaco \nRaw Honey from Windy Hill Farm\, Cherryville\, NJ\n\n“free yarn give-a-away for all customers” \n  \n\nCome see our new Lower Fiber Studio\, specializing in weaving yarns\nCome see our “Fiber Wall” of many colors in the Lower Fiber Studio\nLovely sport and bulky weight yarns in many colors\n\nAs always\, our own Finn and Finn-cross yarns and roving \nFor information/directions: \nWebsite:  duckflatsfarmnj.com \nduckflats@earthlink.net \nCall or Text  908.303.5893 \n  \nComplete Flyer:   DUCK FLATS FARM Christmas Open House Dec 2023 \n  \nShare this:\n				Share on Facebook (Opens in new window)\n				Facebook
URL:https://njfibershed.com/event/member-open-house-duck-flats-farm-christmas-open-house-dec-16-2023/
LOCATION:DUCK FLATS FARM\, 144 Old Clinton Road\, Flemington\, NJ\, United States
CATEGORIES:farm event,fiber art sales
ATTACH;FMTTYPE=image/jpeg:https://njfibershed.com/wp-content/uploads/2022/10/Duck-Flats-Farm-Logo.jpg
END:VEVENT
BEGIN:VEVENT
DTSTART;TZID=America/New_York:20231215T100000
DTEND;TZID=America/New_York:20231215T160000
DTSTAMP:20260422T231152
CREATED:20231204T021633Z
LAST-MODIFIED:20231204T022527Z
UID:30465-1702634400-1702656000@njfibershed.com
SUMMARY:Member Open House - Duck Flats Farm Christmas Open House Dec 15 2023
DESCRIPTION:  \nChristmas/Chanukah Open House \nDUCK FLATS FARM\n144 Old Clinton Road\nFlemington\, NJ  08822 \nFriday\, December 15\, 2023\nSaturday\, December 16\, 2023 \nTime:  10:00 am to 4:00 pm \nYarn * Roving * Needle Arts Supplies \nUnique Hand-Made Gifts \nGift Certificates  \n\nCranberry-Apple Chutney\nPhotos by Professional Photographer\, Samantha Monaco \nRaw Honey from Windy Hill Farm\, Cherryville\, NJ\n\n“free yarn give-a-away for all customers” \n  \n\nCome see our new Lower Fiber Studio\, specializing in weaving yarns\nCome see our “Fiber Wall” of many colors in the Lower Fiber Studio\nLovely sport and bulky weight yarns in many colors\n\nAs always\, our own Finn and Finn-cross yarns and roving \nFor information/directions: \nWebsite:  duckflatsfarmnj.com \nduckflats@earthlink.net \nCall or Text  908.303.5893 \n  \nComplete Flyer:   DUCK FLATS FARM Christmas Open House Dec 2023 \n  \nShare this:\n				Share on Facebook (Opens in new window)\n				Facebook
URL:https://njfibershed.com/event/member-open-house-duck-flats-farm-christmas-open-house-dec-15-2023/
LOCATION:DUCK FLATS FARM\, 144 Old Clinton Road\, Flemington\, NJ\, United States
CATEGORIES:farm event,fiber art sales
ATTACH;FMTTYPE=image/jpeg:https://njfibershed.com/wp-content/uploads/2022/10/Duck-Flats-Farm-Logo.jpg
END:VEVENT
BEGIN:VEVENT
DTSTART;TZID=America/New_York:20231209T100000
DTEND;TZID=America/New_York:20231209T140000
DTSTAMP:20260422T231152
CREATED:20230830T233826Z
LAST-MODIFIED:20231204T020309Z
UID:28790-1702116000-1702130400@njfibershed.com
SUMMARY:Fiber Farm Market at the Sheep Shack - Dec 9th 10 AM to 2 PM
DESCRIPTION:Join us at the Windswept Acres Sheep Shack in Pittstown for your fiber fix.  Last Open Farm for 2023 is Dec. 9th 10AM to 2PM. We’re doing demos/ talks which walk you through the fiber creation process from shearing to final products. \n-August was shearing (Sue’s son Chris flew in from Montana to shear 4 sheep and explain the process as he worked\, to the delight of visitors of all ages).\n-September was skirting (the fleeces shorn in August) and washing.\n– October was making .Fleece Acorns\n– December 9 will be skirting (by popular demand!) as well as hand carding and combing.  Informal demos/ talks at 11AM and 1PM.\n \n  \n\nCornerstone farms vending and organizing guests\, demos and classes are:\n\nWindswept Acres – fleeces\, roving\, yarn & sheepskins from Sue’s flock of natural colored and white Romney and Dorset sheep\, plus NJ Blankets.  And meet the sheep! \nWindswept Acres Sheep Shack Vendors\nDancing Waters Farm – natural colored and hand dyed mohair/ wool roving\, tops & yarn from Andrea’s Angora goats and sheep\, plus catnip and NJ Blankets. \n \n\nOther NJ Fibershed members vending include:\n\nG.P.K Woodcrafts & Restorations – Gregg’s locally made cutting and charcutier boards as well as wooden vases (made from locally sourced hard woods -maple\, ash\, walnut) \n \nWillow Pond Farm – Sue’s raw natural colored and white fleeces (Gotland\, Jacob) \n \n\nPlus other local products (farm and artisans):\n\nGlass artist – Bonnie’s handcrafted\, one-of-a-kind pressed glass sun-catchers\n\n\n\n \n\n\n\nHoney\nUsed fiber equipment for sale\n\nLouet Nilus Loom\n\n\n\n\n\n  \nGuests\, demos and classes will be announced via Instagram (@windsweptsheep) and on Dancing Waters Farm website (https://mohair-fiber.com) as they are scheduled. \nPlease stop by and come talk fiber! Our goal for opening the Sheep Shed is to connect local to local.\nAddress: 173 Whitebridge Road\, Pittstown\, NJ 08876\n#localfibernj #localfiberarts #localfiberfarms \nShare this:\n				Share on Facebook (Opens in new window)\n				Facebook
URL:https://njfibershed.com/event/fiber-farm-market-at-the-sheep-shack/
LOCATION:Windswept Acres Sheep Farm\, 173 Whitebridge Road\, Pittstown\, NJ\, 08867
CATEGORIES:farmer's market,member farmer events
ATTACH;FMTTYPE=image/png:https://njfibershed.com/wp-content/uploads/2023/06/Windswept-Acres-on-Instagram.png
END:VEVENT
BEGIN:VEVENT
DTSTART;TZID=America/New_York:20231105T110000
DTEND;TZID=America/New_York:20231105T150000
DTSTAMP:20260422T231152
CREATED:20231102T113122Z
LAST-MODIFIED:20231102T145843Z
UID:30086-1699182000-1699196400@njfibershed.com
SUMMARY:Member Open Farm / Sale - Forest Bluff Farm - Lebanon NJ - Nov 5
DESCRIPTION:Farm Open House and Sale\nWhen:  Sunday\, November 5\, 2023\, 11AM – 3PM\nWhere : Forest Bluff Farm\, 20 Molasses Hill Road\, Lebanon\, NJ  08833 (in Clinton Township\, just off Route 31) \nWe’ll have Finn & Cashgora fleeces for spinning\, honey\, beeswax\, handcrafted items\, Fibershed blankets\, Spring lambs and kid goats\, Finnsheep breeding stock (rams & ewes)…and plenty of Fall Farm Photo opps! \n   \n \n  \nMore info/ questions: forestblufffarm@gmail.com \n\n\nShare this:\n				Share on Facebook (Opens in new window)\n				Facebook
URL:https://njfibershed.com/event/member-open-farm-sale-forest-bluff-farm-lebanon-nj-nov-5/
LOCATION:Forest Bluff Farm\, 20 Molasses Hill Rd\, Lebanon\, NJ\, 08833\, United States
CATEGORIES:farm event
ATTACH;FMTTYPE=image/jpeg:https://njfibershed.com/wp-content/uploads/2022/12/Forest-Bluff-Farm-IMG_20190418_1433150-scaled.jpg
END:VEVENT
BEGIN:VEVENT
DTSTART;TZID=America/New_York:20231014T100000
DTEND;TZID=America/New_York:20231014T160000
DTSTAMP:20260422T231152
CREATED:20231008T221146Z
LAST-MODIFIED:20231008T221146Z
UID:29816-1697277600-1697299200@njfibershed.com
SUMMARY:Duck Flats Farm Autumn Open House - Oct. 14 10 AM - 4 PM
DESCRIPTION:Yarn\, Roving\, Needle Arts Supplies\, Gift Certificates\, Hand-made Items \n\nCome see our new Lower Fiber Studio\, specializing in weaving yarns\nCome see our “Fiber Wall” of many colors in the Lower Fiber Studio\n\n\nLovely sport and bulky weight yarns in many colors\n\n\nAs always\, our own Finn and Finn-cross yarns and roving\n“free yarn give-a-away for all customers”\nFor information/directions: Call or Text  908.303.5893 or duckflats@earthlink.net \n\nFor More Details see flyer:  DUCK FLATS Autumn Open House \nShare this:\n				Share on Facebook (Opens in new window)\n				Facebook
URL:https://njfibershed.com/event/duck-flats-farm-autumn-open-house-oct-14-10-am-4-pm/
LOCATION:DUCK FLATS FARM\, 144 Old Clinton Road\, Flemington\, NJ\, United States
CATEGORIES:event,farm event
ORGANIZER;CN="Duck Flats Farm":MAILTO:duckflats@earthlink.net
END:VEVENT
BEGIN:VEVENT
DTSTART;TZID=America/New_York:20220402T100000
DTEND;TZID=America/New_York:20220402T160000
DTSTAMP:20260422T231152
CREATED:20220209T010320Z
LAST-MODIFIED:20220209T010503Z
UID:25047-1648893600-1648915200@njfibershed.com
SUMMARY:A Celebration of Lambs - Wool & Fiber Art  - Member Event
DESCRIPTION:Vendors who would like to participate\, please contact  Erin Peek at 609-231-4509. \nShare this:\n				Share on Facebook (Opens in new window)\n				Facebook
URL:https://njfibershed.com/event/a-celebration-of-lambs-wool-fiber-art-member-event/
LOCATION:Misty Meadow Sheep Dairy\, APRIL 2 10 am to 4 pm 100 Dennisville Petersburg Rd.\, Petersburg\, NJ
CATEGORIES:event,fiber art sales
ATTACH;FMTTYPE=image/jpeg:https://njfibershed.com/wp-content/uploads/2022/02/A-Celebration-of-Lambs-Fiber-and-Art-Event.jpg
END:VEVENT
BEGIN:VEVENT
DTSTART;TZID=America/New_York:20210711T180000
DTEND;TZID=America/New_York:20210711T213000
DTSTAMP:20260422T231152
CREATED:20210619T160555Z
LAST-MODIFIED:20210619T160555Z
UID:24602-1626026400-1626039000@njfibershed.com
SUMMARY:All Together Now PA Flax Project Fundraiser - Partner Event
DESCRIPTION:Flax Flower Dinner\n\nfrom $75.00\n\n\nA fundraising event for the Pennsylvania Flax Project \nJuly 11\, 2021 (Rain Date\, July 18)\n6:00 pm – 9:30PM\nKneehigh Farm (3500 Coventryville Rd\, Pottstown) \nJoin us next to the flax field at Kneehigh Farm for a meal prepared by the chefs at Cadence Restaurant using food fresh from the surrounding farms. Celebrate and learn more about our Pennsylvania Flax Project and support our work to re-establish a U.S. based flax into linen supply. \nMenu \nThree savory courses with dessert and 1 complimentary glass of wine sponsored by Cellar Beast Winehouse included\, (BYOB if you’d like more). \nWhen cooking a farm-to-table dinner\, our chefs must wait to see what products will be ready to harvest. Specific menu will be available closer to the dinner date. Vegetarian options will be available. \nTickets \nStandard tickets are $125. If you are able\, kindly consider purchasing one of our higher tiered tickets as a way of contributing to Pennsylvania Flax Project’s fundraising. \n$75 (limited tickets available): These tickets are available for those interested in joining our dinner\, but are not able to contribute to our fundraising campaign. These tickets are made possible through the support of everyone in our community. \nTier 1: $125 includes dinner for one and a $35.00 contribution to the PA Flax Project. \nTier 2: $150 includes dinner for one and a $60.00 contribution to the PA Flax Project. \nTier 3: $250 includes dinner for one plus a $150.00 contribution to the PA Flax Project\, a thank you gift of a handmade market bag from kitchen garden textiles and home grown food from Kneehigh farm (a $150 retail value). \nTier 4: $500 includes dinner for one plus a $170.00 contribution to the PA Flax Project\, a thank you gift of a handmade quilted tablecloth/picnic blanket from kitchen garden textiles and homegrown food from Kneehigh farm (a $300 retail value). \nKindly RSVP by June 30\, 2021\n\nShare this:\n				Share on Facebook (Opens in new window)\n				Facebook
URL:https://njfibershed.com/event/all-together-now-fundraiser-for-pa-flax-project/
LOCATION:Kneehigh Farm\, 3500 Coventryville Rd\, Pottstown\, PA\, 19465\, United States
CATEGORIES:dinner,event,fundraising event,Partner event
ATTACH;FMTTYPE=image/png:https://njfibershed.com/wp-content/uploads/2021/06/ATN-Flax-Dinner.png
END:VEVENT
BEGIN:VEVENT
DTSTART;TZID=America/New_York:20210515T100000
DTEND;TZID=America/New_York:20210515T140000
DTSTAMP:20260422T231152
CREATED:20210223T151413Z
LAST-MODIFIED:20210228T142700Z
UID:24374-1621072800-1621087200@njfibershed.com
SUMMARY:NJ Fibershed Blanket Project Fleece Drop Off
DESCRIPTION:Fleece drop-off day will be Saturday\, May 15.  Hours for dropoff are 10:00 a.m. to 2 p.m.  The drop-off location will be:  Windswept Acres\, 173 Whitebridge Road\, Pittstown\, NJ. \nPrior to drop-off day\, please complete the project training requirements.  The training is in two parts:  1)  watch the YouTube skirting video by Ducky here: and 2) attend the virtual fleece assessment training by Susan Makuka via Zoom on May 4 at 7 pm (details will be posted once finalized).  Once these two training sessions have been completed\, you will be certified and will not have to repeat them. \nFor more information please contact the the Project Coordinator Laura Chandler (Smiling Dog Farm). \nShare this:\n				Share on Facebook (Opens in new window)\n				Facebook
URL:https://njfibershed.com/event/nj-fibershed-blanket-project-fleece-drop-off/
LOCATION:Windswept Acres Sheep Farm\, 173 Whitebridge Road\, Pittstown\, NJ\, 08867
CATEGORIES:member farmer events
ORGANIZER;CN="NJ Fibershed":MAILTO:njfibershed@gmail.com
END:VEVENT
BEGIN:VEVENT
DTSTART;TZID=America/New_York:20210504T190000
DTEND;TZID=America/New_York:20210504T200000
DTSTAMP:20260422T231152
CREATED:20210223T151511Z
LAST-MODIFIED:20210228T142624Z
UID:24376-1620154800-1620158400@njfibershed.com
SUMMARY:NJ Fibershed Blanket Project Fleece Quality Training
DESCRIPTION:Prior to drop-off day\, please complete the project training requirements.  The training is in two parts:  1)  watch the YouTube skirting video by Ducky here: and 2) attend the virtual fleece assessment training by Susan Makuka via Zoom on May 4 at 7 pm (details will be posted once finalized).  Once these two training sessions have been completed\, you will be certified and will not have to repeat them. \nFleece drop-off day will be Saturday\, May 15.  Hours for dropoff are 10:00 a.m. to 2 p.m.  The drop-off location will be:  Windswept Acres\, 173 Whitebridge Road\, Pittstown\, NJ. \nFor more information please contact the the Project Coordinator Laura Chandler (Smiling Dog Farm). \nShare this:\n				Share on Facebook (Opens in new window)\n				Facebook
URL:https://njfibershed.com/event/nj-fibershed-blanket-project-fleece-quality-training/
LOCATION:Zoom Training\, NJ\, United States
CATEGORIES:member farmer events
ORGANIZER;CN="NJ Fibershed":MAILTO:njfibershed@gmail.com
END:VEVENT
END:VCALENDAR