BEGIN:VCALENDAR
VERSION:2.0
PRODID:-//NJ Fibershed - ECPv6.15.20//NONSGML v1.0//EN
CALSCALE:GREGORIAN
METHOD:PUBLISH
X-WR-CALNAME:NJ Fibershed
X-ORIGINAL-URL:https://njfibershed.com
X-WR-CALDESC:Events for NJ Fibershed
REFRESH-INTERVAL;VALUE=DURATION:PT1H
X-Robots-Tag:noindex
X-PUBLISHED-TTL:PT1H
BEGIN:VTIMEZONE
TZID:America/New_York
BEGIN:DAYLIGHT
TZOFFSETFROM:-0500
TZOFFSETTO:-0400
TZNAME:EDT
DTSTART:20240310T070000
END:DAYLIGHT
BEGIN:STANDARD
TZOFFSETFROM:-0400
TZOFFSETTO:-0500
TZNAME:EST
DTSTART:20241103T060000
END:STANDARD
BEGIN:DAYLIGHT
TZOFFSETFROM:-0500
TZOFFSETTO:-0400
TZNAME:EDT
DTSTART:20250309T070000
END:DAYLIGHT
BEGIN:STANDARD
TZOFFSETFROM:-0400
TZOFFSETTO:-0500
TZNAME:EST
DTSTART:20251102T060000
END:STANDARD
BEGIN:DAYLIGHT
TZOFFSETFROM:-0500
TZOFFSETTO:-0400
TZNAME:EDT
DTSTART:20260308T070000
END:DAYLIGHT
BEGIN:STANDARD
TZOFFSETFROM:-0400
TZOFFSETTO:-0500
TZNAME:EST
DTSTART:20261101T060000
END:STANDARD
END:VTIMEZONE
BEGIN:VEVENT
DTSTART;TZID=America/New_York:20250817T200000
DTEND;TZID=America/New_York:20250817T210000
DTSTAMP:20260422T231631
CREATED:20250129T195138Z
LAST-MODIFIED:20250129T195559Z
UID:34270-1755460800-1755464400@njfibershed.com
SUMMARY:Fiber-Along 2025: Plant Fibers
DESCRIPTION:Register HERE for the 2025 Fiber-Along! \nStarting in January\, we’ll gather together to learn about the wild world of plant fibers! The Fiber-Along is a series of monthly Zoom meetings featuring a different special guest each month sharing their experience of working with plant fibers. Fiber-Along participants work independently on their own projects with their plant fiber of choice\, in their craft of choice. You can participate whether you’re learning to grow or process flax\, or spin cotton\, or knit or weave–as long as it’s 100% plant fiber! Participants are invited to join the Fiber-Along Slack channel to share project notes with the other participants. \nThe Fiber-Along is an educational\, community-building event open to all current NJ Fibershed  members. Not a member? You can join here. We’re offering flexible pricing for the program\, to pay what you can. The registration fee includes a Fiber-Along drawstring tote\, a fiber plant sample pack with ramie roving and New Jersey-grown cotton and flax\, and a blank fiber study note page. Totes will ship in early January. \nMeetings will be held on the third Sunday of each month from January – July\, from 8 p.m. –  9 p.m. \nSchedule of special guests*: \n\nJanuary 19\, Flax                Janelle Wysock\, PA Flax Project\nFebruary 16\, Cotton       Tameka Peoples\, Seed2Shirt\nMarch 16\, Ramie             Youngmin Lee\nApril 13**\, Hemp            Joan Ruane\nMay 18\,  Piña\, Abaca      Lorenza Wong\nJune 15\, Cotton               Melanie Duarte\nJuly 20\, Flax growing    Joan Mruk\nAugust 17\, Cotton            Bec Sloane\, Better Cotton\n\n*Schedule is subject to change \nShare this:\n				Share on Facebook (Opens in new window)\n				Facebook
URL:https://njfibershed.com/event/fiber-along-2025-plant-fibers-7/
CATEGORIES:fiber along
ATTACH;FMTTYPE=image/png:https://njfibershed.com/wp-content/uploads/2024/12/fiber-along-logo-e1733242120676.png
END:VEVENT
BEGIN:VEVENT
DTSTART;TZID=America/New_York:20250720T200000
DTEND;TZID=America/New_York:20250720T210000
DTSTAMP:20260422T231631
CREATED:20250129T195040Z
LAST-MODIFIED:20250129T195809Z
UID:34267-1753041600-1753045200@njfibershed.com
SUMMARY:Fiber-Along 2025: Plant Fibers
DESCRIPTION:Register HERE for the 2025 Fiber-Along! \nStarting in January\, we’ll gather together to learn about the wild world of plant fibers! The Fiber-Along is a series of monthly Zoom meetings featuring a different special guest each month sharing their experience of working with plant fibers. Fiber-Along participants work independently on their own projects with their plant fiber of choice\, in their craft of choice. You can participate whether you’re learning to grow or process flax\, or spin cotton\, or knit or weave–as long as it’s 100% plant fiber! Participants are invited to join the Fiber-Along Slack channel to share project notes with the other participants. \nThe Fiber-Along is an educational\, community-building event open to all current NJ Fibershed  members. Not a member? You can join here. We’re offering flexible pricing for the program\, to pay what you can. The registration fee includes a Fiber-Along drawstring tote\, a fiber plant sample pack with ramie roving and New Jersey-grown cotton and flax\, and a blank fiber study note page. Totes will ship in early January. \nMeetings will be held on the third Sunday of each month from January – July\, from 8 p.m. –  9 p.m. \nSchedule of special guests*: \n\nJanuary 19\, Flax                Janelle Wysock\, PA Flax Project\nFebruary 16\, Cotton       Tameka Peoples\, Seed2Shirt\nMarch 16\, Ramie             Youngmin Lee\nApril 13**\, Hemp            Joan Ruane\nMay 18\,  Piña\, Abaca      Lorenza Wong\nJune 15\, Cotton               Melanie Duarte\nJuly 20\, Flax growing    Joan Mruk\nAugust 17\, Cotton            Bec Sloane\, Better Cotton\n\n*Schedule is subject to change \nShare this:\n				Share on Facebook (Opens in new window)\n				Facebook
URL:https://njfibershed.com/event/fiber-along-2025-plant-fibers-6/
CATEGORIES:fiber along
ATTACH;FMTTYPE=image/png:https://njfibershed.com/wp-content/uploads/2024/12/fiber-along-logo-e1733242120676.png
END:VEVENT
BEGIN:VEVENT
DTSTART;TZID=America/New_York:20250615T200000
DTEND;TZID=America/New_York:20250615T210000
DTSTAMP:20260422T231631
CREATED:20250129T194930Z
LAST-MODIFIED:20250129T195725Z
UID:34264-1750017600-1750021200@njfibershed.com
SUMMARY:Fiber-Along 2025: Plant Fibers
DESCRIPTION:Register HERE for the 2025 Fiber-Along! \nStarting in January\, we’ll gather together to learn about the wild world of plant fibers! The Fiber-Along is a series of monthly Zoom meetings featuring a different special guest each month sharing their experience of working with plant fibers. Fiber-Along participants work independently on their own projects with their plant fiber of choice\, in their craft of choice. You can participate whether you’re learning to grow or process flax\, or spin cotton\, or knit or weave–as long as it’s 100% plant fiber! Participants are invited to join the Fiber-Along Slack channel to share project notes with the other participants. \nThe Fiber-Along is an educational\, community-building event open to all current NJ Fibershed  members. Not a member? You can join here. We’re offering flexible pricing for the program\, to pay what you can. The registration fee includes a Fiber-Along drawstring tote\, a fiber plant sample pack with ramie roving and New Jersey-grown cotton and flax\, and a blank fiber study note page. Totes will ship in early January. \nMeetings will be held on the third Sunday of each month from January – July\, from 8 p.m. –  9 p.m. \nSchedule of special guests*: \n\nJanuary 19\, Flax                Janelle Wysock\, PA Flax Project\nFebruary 16\, Cotton       Tameka Peoples\, Seed2Shirt\nMarch 16\, Ramie             Youngmin Lee\nApril 13**\, Hemp            Joan Ruane\nMay 18\,  Piña\, Abaca      Lorenza Wong\nJune 15\, Cotton               Melanie Duarte\nJuly 20\, Flax growing    Joan Mruk\nAugust 17\, Cotton            Bec Sloane\, Better Cotton\n\n*Schedule is subject to change \nShare this:\n				Share on Facebook (Opens in new window)\n				Facebook
URL:https://njfibershed.com/event/fiber-along-2025-plant-fibers-5/
CATEGORIES:fiber along
ATTACH;FMTTYPE=image/png:https://njfibershed.com/wp-content/uploads/2024/12/fiber-along-logo-e1733242120676.png
END:VEVENT
BEGIN:VEVENT
DTSTART;TZID=America/New_York:20250518T200000
DTEND;TZID=America/New_York:20250518T210000
DTSTAMP:20260422T231631
CREATED:20250129T194813Z
LAST-MODIFIED:20250129T195657Z
UID:34261-1747598400-1747602000@njfibershed.com
SUMMARY:Fiber-Along 2025: Plant Fibers
DESCRIPTION:Register HERE for the 2025 Fiber-Along! \nStarting in January\, we’ll gather together to learn about the wild world of plant fibers! The Fiber-Along is a series of monthly Zoom meetings featuring a different special guest each month sharing their experience of working with plant fibers. Fiber-Along participants work independently on their own projects with their plant fiber of choice\, in their craft of choice. You can participate whether you’re learning to grow or process flax\, or spin cotton\, or knit or weave–as long as it’s 100% plant fiber! Participants are invited to join the Fiber-Along Slack channel to share project notes with the other participants. \nThe Fiber-Along is an educational\, community-building event open to all current NJ Fibershed  members. Not a member? You can join here. We’re offering flexible pricing for the program\, to pay what you can. The registration fee includes a Fiber-Along drawstring tote\, a fiber plant sample pack with ramie roving and New Jersey-grown cotton and flax\, and a blank fiber study note page. Totes will ship in early January. \nMeetings will be held on the third Sunday of each month from January – July\, from 8 p.m. –  9 p.m. \nSchedule of special guests*: \n\nJanuary 19\, Flax                Janelle Wysock\, PA Flax Project\nFebruary 16\, Cotton       Tameka Peoples\, Seed2Shirt\nMarch 16\, Ramie             Youngmin Lee\nApril 13**\, Hemp            Joan Ruane\nMay 18\,  Piña\, Abaca      Lorenza Wong\nJune 15\, Cotton               Melanie Duarte\nJuly 20\, Flax growing    Joan Mruk\nAugust 17\, Cotton            Bec Sloane\, Better Cotton\n\n*Schedule is subject to change\n**Meeting held on the 2nd Sunday due to the Easter holiday \nShare this:\n				Share on Facebook (Opens in new window)\n				Facebook
URL:https://njfibershed.com/event/fiber-along-2025-plant-fibers-4/
CATEGORIES:fiber along
ATTACH;FMTTYPE=image/png:https://njfibershed.com/wp-content/uploads/2024/12/fiber-along-logo-e1733242120676.png
END:VEVENT
BEGIN:VEVENT
DTSTART;TZID=America/New_York:20250413T200000
DTEND;TZID=America/New_York:20250413T210000
DTSTAMP:20260422T231631
CREATED:20250129T194723Z
LAST-MODIFIED:20250129T195540Z
UID:34259-1744574400-1744578000@njfibershed.com
SUMMARY:Fiber-Along 2025: Plant Fibers
DESCRIPTION:Register HERE for the 2025 Fiber-Along! \nStarting in January\, we’ll gather together to learn about the wild world of plant fibers! The Fiber-Along is a series of monthly Zoom meetings featuring a different special guest each month sharing their experience of working with plant fibers. Fiber-Along participants work independently on their own projects with their plant fiber of choice\, in their craft of choice. You can participate whether you’re learning to grow or process flax\, or spin cotton\, or knit or weave–as long as it’s 100% plant fiber! Participants are invited to join the Fiber-Along Slack channel to share project notes with the other participants. \nThe Fiber-Along is an educational\, community-building event open to all current NJ Fibershed  members. Not a member? You can join here. We’re offering flexible pricing for the program\, to pay what you can. The registration fee includes a Fiber-Along drawstring tote\, a fiber plant sample pack with ramie roving and New Jersey-grown cotton and flax\, and a blank fiber study note page. Totes will ship in early January. \nMeetings will be held on the third Sunday of each month from January – July\, from 8 p.m. –  9 p.m. \nSchedule of special guests*: \n\nJanuary 19\, Flax                Janelle Wysock\, PA Flax Project\nFebruary 16\, Cotton       Tameka Peoples\, Seed2Shirt\nMarch 16\, Ramie             Youngmin Lee\nApril 13**\, Hemp            Joan Ruane\nMay 18\,  Piña\, Abaca      Lorenza Wong\nJune 15\, Cotton               Melanie Duarte\nJuly 20\, Flax growing    Joan Mruk\nAugust 17\, Cotton            Bec Sloane\, Better Cotton\n\n*Schedule is subject to change\n**Meeting held on the 2nd Sunday due to the Easter holiday \nShare this:\n				Share on Facebook (Opens in new window)\n				Facebook
URL:https://njfibershed.com/event/fiber-along-2025-plant-fibers-3/
CATEGORIES:fiber along
ATTACH;FMTTYPE=image/png:https://njfibershed.com/wp-content/uploads/2024/12/fiber-along-logo-e1733242120676.png
END:VEVENT
BEGIN:VEVENT
DTSTART;TZID=America/New_York:20250316T200000
DTEND;TZID=America/New_York:20250316T210000
DTSTAMP:20260422T231631
CREATED:20250129T194624Z
LAST-MODIFIED:20250129T195505Z
UID:34256-1742155200-1742158800@njfibershed.com
SUMMARY:Fiber-Along 2025: Plant Fibers
DESCRIPTION:Register HERE for the 2025 Fiber-Along! \nStarting in January\, we’ll gather together to learn about the wild world of plant fibers! The Fiber-Along is a series of monthly Zoom meetings featuring a different special guest each month sharing their experience of working with plant fibers. Fiber-Along participants work independently on their own projects with their plant fiber of choice\, in their craft of choice. You can participate whether you’re learning to grow or process flax\, or spin cotton\, or knit or weave–as long as it’s 100% plant fiber! Participants are invited to join the Fiber-Along Slack channel to share project notes with the other participants. \nThe Fiber-Along is an educational\, community-building event open to all current NJ Fibershed  members. Not a member? You can join here. We’re offering flexible pricing for the program\, to pay what you can. The registration fee includes a Fiber-Along drawstring tote\, a fiber plant sample pack with ramie roving and New Jersey-grown cotton and flax\, and a blank fiber study note page. Totes will ship in early January. \nMeetings will be held on the third Sunday of each month from January – July\, from 8 p.m. –  9 p.m. \nSchedule of special guests*: \n\nJanuary 19\, Flax                Janelle Wysock\, PA Flax Project\nFebruary 16\, Cotton       Tameka Peoples\, Seed2Shirt\nMarch 16\, Ramie             Youngmin Lee\nApril 13**\, Hemp            Joan Ruane\nMay 18\,  Piña\, Abaca      Lorenza Wong\nJune 15\, Cotton               Melanie Duarte\nJuly 20\, Flax growing    Joan Mruk\nAugust 17\, Cotton            Bec Sloane\, Better Cotton\n\n*Schedule is subject to change\n**Meeting held on the 2nd Sunday due to the Easter holiday \nShare this:\n				Share on Facebook (Opens in new window)\n				Facebook
URL:https://njfibershed.com/event/fiber-along-2025-plant-fibers-2/
CATEGORIES:fiber along
ATTACH;FMTTYPE=image/png:https://njfibershed.com/wp-content/uploads/2024/12/fiber-along-logo-e1733242120676.png
END:VEVENT
BEGIN:VEVENT
DTSTART;TZID=America/New_York:20250216T200000
DTEND;TZID=America/New_York:20250216T210000
DTSTAMP:20260422T231631
CREATED:20241203T160438Z
LAST-MODIFIED:20250129T194214Z
UID:33658-1739736000-1739739600@njfibershed.com
SUMMARY:Fiber-Along 2025: Plant Fibers
DESCRIPTION:Register HERE for the 2025 Fiber-Along! \nStarting in January\, we’ll gather together to learn about the wild world of plant fibers! The Fiber-Along is a series of monthly Zoom meetings featuring a different special guest each month sharing their experience of working with plant fibers. Fiber-Along participants work independently on their own projects with their plant fiber of choice\, in their craft of choice. You can participate whether you’re learning to grow or process flax\, or spin cotton\, or knit or weave–as long as it’s 100% plant fiber! Participants are invited to join the Fiber-Along Slack channel to share project notes with the other participants. \nThe Fiber-Along is an educational\, community-building event open to all current NJ Fibershed  members. Not a member? You can join here. We’re offering flexible pricing for the program\, to pay what you can. The registration fee includes a Fiber-Along drawstring tote\, a fiber plant sample pack with ramie roving and New Jersey-grown cotton and flax\, and a blank fiber study note page. Totes will ship in early January. \nMeetings will be held on the third Sunday of each month from January – July\, from 8 p.m. –  9 p.m. \nSchedule of special guests*: \n\nJanuary 19\, Flax                Janelle Wysock\, PA Flax Project\nFebruary 16\, Cotton       Tameka Peoples\, Seed2Shirt\nMarch 16\, Ramie             Youngmin Lee\nApril 13**\, Hemp            Joan Ruane\nMay 18\,  Piña\, Abaca      Lorenza Wong\nJune 15\, Cotton               Melanie Duarte\nJuly 20\, Flax growing    Joan Mruk\nAugust 17\, Cotton            Bec Sloane\, Better Cotton\n\n*Schedule is subject to change\n**Meeting held on the 2nd Sunday due to the Easter holiday \nShare this:\n				Share on Facebook (Opens in new window)\n				Facebook
URL:https://njfibershed.com/event/fiber-along-2025-plant-fibers/
CATEGORIES:fiber along
ATTACH;FMTTYPE=image/png:https://njfibershed.com/wp-content/uploads/2024/12/fiber-along-logo-e1733242120676.png
ORGANIZER;CN="NJ Fibershed":MAILTO:njfibershed@gmail.com
END:VEVENT
END:VCALENDAR