BEGIN:VCALENDAR
VERSION:2.0
PRODID:-//NJ Fibershed - ECPv6.15.20//NONSGML v1.0//EN
CALSCALE:GREGORIAN
METHOD:PUBLISH
X-WR-CALNAME:NJ Fibershed
X-ORIGINAL-URL:https://njfibershed.com
X-WR-CALDESC:Events for NJ Fibershed
REFRESH-INTERVAL;VALUE=DURATION:PT1H
X-Robots-Tag:noindex
X-PUBLISHED-TTL:PT1H
BEGIN:VTIMEZONE
TZID:America/New_York
BEGIN:DAYLIGHT
TZOFFSETFROM:-0500
TZOFFSETTO:-0400
TZNAME:EDT
DTSTART:20230312T070000
END:DAYLIGHT
BEGIN:STANDARD
TZOFFSETFROM:-0400
TZOFFSETTO:-0500
TZNAME:EST
DTSTART:20231105T060000
END:STANDARD
BEGIN:DAYLIGHT
TZOFFSETFROM:-0500
TZOFFSETTO:-0400
TZNAME:EDT
DTSTART:20240310T070000
END:DAYLIGHT
BEGIN:STANDARD
TZOFFSETFROM:-0400
TZOFFSETTO:-0500
TZNAME:EST
DTSTART:20241103T060000
END:STANDARD
BEGIN:DAYLIGHT
TZOFFSETFROM:-0500
TZOFFSETTO:-0400
TZNAME:EDT
DTSTART:20250309T070000
END:DAYLIGHT
BEGIN:STANDARD
TZOFFSETFROM:-0400
TZOFFSETTO:-0500
TZNAME:EST
DTSTART:20251102T060000
END:STANDARD
BEGIN:DAYLIGHT
TZOFFSETFROM:-0500
TZOFFSETTO:-0400
TZNAME:EDT
DTSTART:20260308T070000
END:DAYLIGHT
BEGIN:STANDARD
TZOFFSETFROM:-0400
TZOFFSETTO:-0500
TZNAME:EST
DTSTART:20261101T060000
END:STANDARD
END:VTIMEZONE
BEGIN:VEVENT
DTSTART;TZID=America/New_York:20250608T100000
DTEND;TZID=America/New_York:20250608T160000
DTSTAMP:20260422T230614
CREATED:20250401T220916Z
LAST-MODIFIED:20250402T004442Z
UID:34941-1749376800-1749398400@njfibershed.com
SUMMARY:NJ Fibershed Barn Crawl 2025
DESCRIPTION:Join us for the 3rd Annual Barn Crawl! \nThe Barn Crawl is an opportunity for farm-fiber lovers from across the region to learn about our local fiber production\, while visiting farms\, meeting fiber animals\, and shopping for locally-sourced products. The NJ Fibershed Barn Crawl is a community-building event with the goal of promoting the awareness of local fiber production and use throughout our state. \nNO TICKETS REQUIRED \nWant to be a farm on the Crawl? See our Participating Farm info page. \n \nShare this:\n				Share on Facebook (Opens in new window)\n				Facebook
URL:https://njfibershed.com/event/nj-fibershed-barn-crawl-2025-2/
CATEGORIES:Barn Crawl,event
ATTACH;FMTTYPE=image/png:https://njfibershed.com/wp-content/uploads/2025/04/barn-crawl-2025-logo-e1743544470817.png
ORGANIZER;CN="NJ Fibershed":MAILTO:njfibershed@gmail.com
END:VEVENT
BEGIN:VEVENT
DTSTART;TZID=America/New_York:20250607T100000
DTEND;TZID=America/New_York:20250607T160000
DTSTAMP:20260422T230614
CREATED:20250401T220622Z
LAST-MODIFIED:20250402T004530Z
UID:34938-1749290400-1749312000@njfibershed.com
SUMMARY:NJ Fibershed Barn Crawl 2025
DESCRIPTION:Join us for the 3rd Annual Barn Crawl! \nThe Barn Crawl is an opportunity for farm-fiber lovers from across the region to learn about our local fiber production\, while visiting farms\, meeting fiber animals\, and shopping for locally-sourced products. The NJ Fibershed Barn Crawl is a community-building event with the goal of promoting the awareness of local fiber production and use throughout our state. \nNO TICKETS REQUIRED \nWant to be a farm on the Crawl? See our Participating Farm info page. \nShare this:\n				Share on Facebook (Opens in new window)\n				Facebook
URL:https://njfibershed.com/event/nj-fibershed-barn-crawl-2025/
CATEGORIES:Barn Crawl,event
ATTACH;FMTTYPE=image/png:https://njfibershed.com/wp-content/uploads/2025/04/barn-crawl-2025-logo-e1743544470817.png
ORGANIZER;CN="NJ Fibershed":MAILTO:njfibershed@gmail.com
END:VEVENT
BEGIN:VEVENT
DTSTART;TZID=America/New_York:20240428T100000
DTEND;TZID=America/New_York:20240428T160000
DTSTAMP:20260422T230614
CREATED:20240217T220010Z
LAST-MODIFIED:20240217T220053Z
UID:31214-1714298400-1714320000@njfibershed.com
SUMMARY:Barn Crawl 2024 - April 28
DESCRIPTION:Join NJ Fibershed for a weekend of fiber immersion located at farms throughout New Jersey on April 27 & 28 from 10AM – 4PM each day! This year 2 South & 2 North NJ Host Farms are participating. \nCome to meet the livestock\, buy some home grown fiber and locally made products!  Meet farmers\, ranchers\, designers\, sewers\, weavers\, knitters\, felters\, spinners\, and natural dyers living and working within New Jersey and neighboring regions. And if that wasn’t enough\, there will be a drawing for NJ Fibershed swag at the end of the Barn Crawl event!  Share your finds with #NJBarnCrawl24. \nWe’ll be doing a NJ Fibershed Fiber-Along again this year.  Fiber-Along 2024 is a free\, open community of makers using items purchased at the Barn Crawl.  Anyone who attends this year’s Barn Crawl can participate.  It’s a chance to share what you’re making due to attending the Barn Crawl with fellow “Crawlers” as well as the makers who produced or influenced what you’re using/ making.  There will be monthly Zoom meetings to share progress on projects\, with a final in person meet up at the October Fleece and Fall Fiber Sale.  Signup info will be provided at each Barn Crawl host farm and please share your project on Social Media using #njfal2024. \nEntry Donation is $5  per person\, good for both days.   As an entirely volunteer run non-profit organization\, we must raise the funds to cover the expenses of everything we do: events\, workshops\, and training sessions.  Your Barn Crawl entrance donations will be used to cover expenses for biosecurity materials for our animals and portable restrooms for farm guests. \nDonations in advance are preferred so farms don’t have to handle cash\, but each farm will provide a QR Code/ url to make a donation via our website for drop-in visitors.\n \nJoin the Fiber Quest!  Make your online entry donation and you’ll receive a Fiber Quest map for this year’s Barn Crawl via email on April 26.   Donations for Barn Crawl 2024 can be made now!  \n  \nFor more info\, see our Barn Crawl 2024 page. \nMeet our Host Farms:\n \n\nJenny Jump Farm – Belvidere\,  Warren County\nSmiling Dog Farm – Lumberton\, Burlington County\nWindswept Acres Farm – Pittstown\, Hunterdon County\nWindy Farm Alpacas – Chesterfield\, Burlington County\n\n \n Meet our Artisans & Vendors \nInfo is up to date as of Feb. 14\, 2024 and subject to change. \n__________________________ \nWould you like to vend?  We’d love your help showcasing local fiber farms and products! \nVending Info \nShare this:\n				Share on Facebook (Opens in new window)\n				Facebook
URL:https://njfibershed.com/event/barn-crawl-2024-day-2/
LOCATION:Various\, NJ\, United States
CATEGORIES:Barn Crawl,event,NJ Fibershed Events
ATTACH;FMTTYPE=image/jpeg:https://njfibershed.com/wp-content/uploads/2023/02/LJC04293-PS-1600-px-X-900-px-Lowered-Left-Third.jpg
ORGANIZER;CN="NJ Fibershed":MAILTO:njfibershed@gmail.com
END:VEVENT
BEGIN:VEVENT
DTSTART;TZID=America/New_York:20240427T100000
DTEND;TZID=America/New_York:20240427T160000
DTSTAMP:20260422T230614
CREATED:20240217T220033Z
LAST-MODIFIED:20240217T220033Z
UID:31113-1714212000-1714233600@njfibershed.com
SUMMARY:Barn Crawl 2024 - April 27
DESCRIPTION:Join NJ Fibershed for a weekend of fiber immersion located at farms throughout New Jersey on April 27 & 28 from 10AM – 4PM each day! This year 2 South & 2 North NJ Host Farms are participating. \nCome to meet the livestock\, buy some home grown fiber and locally made products!  Meet farmers\, ranchers\, designers\, sewers\, weavers\, knitters\, felters\, spinners\, and natural dyers living and working within New Jersey and neighboring regions. And if that wasn’t enough\, there will be a drawing for NJ Fibershed swag at the end of the Barn Crawl event!  Share your finds with #NJBarnCrawl24. \nWe’ll be doing a NJ Fibershed Fiber-Along again this year.  Fiber-Along 2024 is a free\, open community of makers using items purchased at the Barn Crawl.  Anyone who attends this year’s Barn Crawl can participate.  It’s a chance to share what you’re making due to attending the Barn Crawl with fellow “Crawlers” as well as the makers who produced or influenced what you’re using/ making.  There will be monthly Zoom meetings to share progress on projects\, with a final in person meet up at the October Fleece and Fall Fiber Sale.  Signup info will be provided at each Barn Crawl host farm and please share your project on Social Media using #njfal2024. \nEntry Donation is $5  per person\, good for both days.   As an entirely volunteer run non-profit organization\, we must raise the funds to cover the expenses of everything we do: events\, workshops\, and training sessions.  Your Barn Crawl entrance donations will be used to cover expenses for biosecurity materials for our animals and portable restrooms for farm guests. \nDonations in advance are preferred so farms don’t have to handle cash\, but each farm will provide a QR Code/ url to make a donation via our website for drop-in visitors.\n \nJoin the Fiber Quest!  Make your online entry donation and you’ll receive a Fiber Quest map for this year’s Barn Crawl via email on April 26.   Donations for Barn Crawl 2024 can be made now!  \nFor more info\, see our Barn Crawl 2024 page. \nMeet our Host Farms:\n \n\nJenny Jump Farm – Belvidere\,  Warren County\nSmiling Dog Farm – Lumberton\, Burlington County\nWindswept Acres Farm – Pittstown\, Hunterdon County\nWindy Farm Alpacas – Chesterfield\, Burlington County\n\n \n Meet our Artisans & Vendors  Coming Soon! \nInfo is up to date as of Feb. 14\, 2024 and subject to change. \n__________________________ \nWould you like to vend?  We’d love your help showcasing local fiber farms and products! \nVending Info \nShare this:\n				Share on Facebook (Opens in new window)\n				Facebook
URL:https://njfibershed.com/event/barn-crawl-2024-day-1/
CATEGORIES:Barn Crawl,event,NJ Fibershed Events
ATTACH;FMTTYPE=image/jpeg:https://njfibershed.com/wp-content/uploads/2023/02/LJC04293-PS-1600-px-X-900-px-Lowered-Left-Third.jpg
ORGANIZER;CN="NJ Fibershed":MAILTO:njfibershed@gmail.com
END:VEVENT
END:VCALENDAR