BEGIN:VCALENDAR
VERSION:2.0
PRODID:-//NJ Fibershed - ECPv6.15.20//NONSGML v1.0//EN
CALSCALE:GREGORIAN
METHOD:PUBLISH
X-ORIGINAL-URL:https://njfibershed.com
X-WR-CALDESC:Events for NJ Fibershed
REFRESH-INTERVAL;VALUE=DURATION:PT1H
X-Robots-Tag:noindex
X-PUBLISHED-TTL:PT1H
BEGIN:VTIMEZONE
TZID:America/New_York
BEGIN:DAYLIGHT
TZOFFSETFROM:-0500
TZOFFSETTO:-0400
TZNAME:EDT
DTSTART:20210314T070000
END:DAYLIGHT
BEGIN:STANDARD
TZOFFSETFROM:-0400
TZOFFSETTO:-0500
TZNAME:EST
DTSTART:20211107T060000
END:STANDARD
BEGIN:DAYLIGHT
TZOFFSETFROM:-0500
TZOFFSETTO:-0400
TZNAME:EDT
DTSTART:20220313T070000
END:DAYLIGHT
BEGIN:STANDARD
TZOFFSETFROM:-0400
TZOFFSETTO:-0500
TZNAME:EST
DTSTART:20221106T060000
END:STANDARD
BEGIN:DAYLIGHT
TZOFFSETFROM:-0500
TZOFFSETTO:-0400
TZNAME:EDT
DTSTART:20230312T070000
END:DAYLIGHT
BEGIN:STANDARD
TZOFFSETFROM:-0400
TZOFFSETTO:-0500
TZNAME:EST
DTSTART:20231105T060000
END:STANDARD
END:VTIMEZONE
BEGIN:VEVENT
DTSTART;VALUE=DATE:20221001
DTEND;VALUE=DATE:20221010
DTSTAMP:20260423T015754
CREATED:20221001T154121Z
LAST-MODIFIED:20221001T155523Z
UID:25778-1664582400-1665359999@njfibershed.com
SUMMARY:National Spinning and Weaving Week
DESCRIPTION:The first full week in October is always National Spinning and Weaving Week! \nWhy not celebrate by exploring your local fiber producers?  Plus it’s easy to find them using our Directory! \nIt’s also a great time to plan fiber gift ideas\, mapping out what you might need so you’re ready to view fiber items at our upcoming Fall Fleece and Yarn Sale in just 3 weeks (Oct. 23rd)! \nIf you’re new to spinning or weaving or just want to learn more about fiber\, get your questions together and bring them to the Sale.  The South Jersey Guild of Spinners and Hand Weavers and North Country Spinners will be hosting a Spin In at the sale. \nAlso our NJ Fibershed Blankets will be on sale by participating producers!!!  The unique design features three solid color sections representing the 3 NJ regions\, the colors fading into one another as no one really knows where each NJ region starts and ends! The nine step transitions represent the nine farms who contributed wool to the project.   \n \n  \nNJ Fibershed Oct 24 2021 Yarn and Fleece Sale\nNJ Fibershed Oct 24 2021 Yarn and Fleece Sale\nNJ Fibershed Oct 24 2021 Yarn and Fleece Sale\nShare this:\n				Share on Facebook (Opens in new window)\n				Facebook
URL:https://njfibershed.com/event/national-spinning-and-weaving-week/
CATEGORIES:celebration
ATTACH;FMTTYPE=image/jpeg:https://njfibershed.com/wp-content/uploads/2022/06/NJFS-Blankets-in-Progress-on-the-Loom-April-2022-ComfortCloth-Pic-3-279180162_575331557017327_8999248936961110526_n.jpg
END:VEVENT
END:VCALENDAR